BEGIN:VCALENDAR
VERSION:2.0
PRODID:-//Pacto Mundial México - ECPv5.1.5//NONSGML v1.0//EN
CALSCALE:GREGORIAN
METHOD:PUBLISH
X-WR-CALNAME:Pacto Mundial México
X-ORIGINAL-URL:https://www.pactomundial.org.mx
X-WR-CALDESC:Eventos para Pacto Mundial México
BEGIN:VTIMEZONE
TZID:America/Mexico_City
BEGIN:DAYLIGHT
TZOFFSETFROM:-0600
TZOFFSETTO:-0500
TZNAME:CDT
DTSTART:20220403T080000
END:DAYLIGHT
BEGIN:STANDARD
TZOFFSETFROM:-0500
TZOFFSETTO:-0600
TZNAME:CST
DTSTART:20221030T070000
END:STANDARD
END:VTIMEZONE
BEGIN:VEVENT
DTSTART;TZID=America/Mexico_City:20220330T110000
DTEND;TZID=America/Mexico_City:20220330T120000
DTSTAMP:20230415T060009
CREATED:20220329T230330Z
LAST-MODIFIED:20220329T230330Z
UID:10309-1648638000-1648641600@www.pactomundial.org.mx
SUMMARY:Acelerador de Ambición Climática | Q&A
DESCRIPTION:Abierto al Público \n
URL:https://www.pactomundial.org.mx/evento/acelerador-de-ambicion-climatica-qa/
CATEGORIES:Acción por el clima
ATTACH;FMTTYPE=image/png:https://www.pactomundial.org.mx/wp-content/uploads/2022/03/sesion-CA-e1648594945228.png
END:VEVENT
END:VCALENDAR