BEGIN:VCALENDAR
VERSION:2.0
PRODID:-//Pacto Mundial México - ECPv5.1.5//NONSGML v1.0//EN
CALSCALE:GREGORIAN
METHOD:PUBLISH
X-WR-CALNAME:Pacto Mundial México
X-ORIGINAL-URL:https://www.pactomundial.org.mx
X-WR-CALDESC:Eventos para Pacto Mundial México
BEGIN:VTIMEZONE
TZID:America/Mexico_City
BEGIN:DAYLIGHT
TZOFFSETFROM:-0600
TZOFFSETTO:-0500
TZNAME:CDT
DTSTART:20220403T080000
END:DAYLIGHT
BEGIN:STANDARD
TZOFFSETFROM:-0500
TZOFFSETTO:-0600
TZNAME:CST
DTSTART:20221030T070000
END:STANDARD
END:VTIMEZONE
BEGIN:VEVENT
DTSTART;TZID=America/Mexico_City:20220803T100000
DTEND;TZID=America/Mexico_City:20220803T110000
DTSTAMP:20230415T055339
CREATED:20220527T215924Z
LAST-MODIFIED:20220527T220157Z
UID:10518-1659520800-1659524400@www.pactomundial.org.mx
SUMMARY:Bienvenida al Pacto Mundial
DESCRIPTION:Sólo para adheridos \n
URL:https://www.pactomundial.org.mx/evento/bienvenida-al-pacto-mundial-16/
CATEGORIES:Recién Adheridos,WEBINAR
ATTACH;FMTTYPE=image/jpeg:https://www.pactomundial.org.mx/wp-content/uploads/2022/05/Bienvenida3Agosto-e1653688650286.jpg
END:VEVENT
END:VCALENDAR