BEGIN:VCALENDAR
VERSION:2.0
PRODID:-//Pacto Mundial México - ECPv5.1.5//NONSGML v1.0//EN
CALSCALE:GREGORIAN
METHOD:PUBLISH
X-WR-CALNAME:Pacto Mundial México
X-ORIGINAL-URL:https://www.pactomundial.org.mx
X-WR-CALDESC:Eventos para Pacto Mundial México
BEGIN:VTIMEZONE
TZID:America/Mexico_City
BEGIN:DAYLIGHT
TZOFFSETFROM:-0600
TZOFFSETTO:-0500
TZNAME:CDT
DTSTART:20230402T080000
END:DAYLIGHT
BEGIN:STANDARD
TZOFFSETFROM:-0500
TZOFFSETTO:-0600
TZNAME:CST
DTSTART:20231029T070000
END:STANDARD
END:VTIMEZONE
BEGIN:VEVENT
DTSTART;TZID=America/Mexico_City:20230705T100000
DTEND;TZID=America/Mexico_City:20230705T110000
DTSTAMP:20230415T044841
CREATED:20230317T020631Z
LAST-MODIFIED:20230317T020631Z
UID:12008-1688551200-1688554800@www.pactomundial.org.mx
SUMMARY:Bienvenida al Pacto Mundial
DESCRIPTION:Solo para Adheridos \nGratuito \n
URL:https://www.pactomundial.org.mx/evento/bienvenida-al-pacto-mundial-24/
CATEGORIES:Recién Adheridos,WEBINAR
ATTACH;FMTTYPE=image/png:https://www.pactomundial.org.mx/wp-content/uploads/2023/01/Bienvenida-06-e1679018778653.png
END:VEVENT
END:VCALENDAR