BEGIN:VCALENDAR
VERSION:2.0
PRODID:-//Pacto Mundial México - ECPv5.1.5//NONSGML v1.0//EN
CALSCALE:GREGORIAN
METHOD:PUBLISH
X-WR-CALNAME:Pacto Mundial México
X-ORIGINAL-URL:https://www.pactomundial.org.mx
X-WR-CALDESC:Eventos para Pacto Mundial México
BEGIN:VTIMEZONE
TZID:America/Mexico_City
BEGIN:DAYLIGHT
TZOFFSETFROM:-0600
TZOFFSETTO:-0500
TZNAME:CDT
DTSTART:20210404T080000
END:DAYLIGHT
BEGIN:STANDARD
TZOFFSETFROM:-0500
TZOFFSETTO:-0600
TZNAME:CST
DTSTART:20211031T070000
END:STANDARD
END:VTIMEZONE
BEGIN:VEVENT
DTSTART;TZID=America/Mexico_City:20211111T100000
DTEND;TZID=America/Mexico_City:20211111T110000
DTSTAMP:20230415T054050
CREATED:20211020T190608Z
LAST-MODIFIED:20211103T060938Z
UID:9776-1636624800-1636628400@www.pactomundial.org.mx
SUMMARY:Bienvenida al Pacto Mundial
DESCRIPTION:Sólo para Adheridos \n
URL:https://www.pactomundial.org.mx/evento/bienvenida-al-pacto-mundial-9/
CATEGORIES:Recién Adheridos
ATTACH;FMTTYPE=image/png:https://www.pactomundial.org.mx/wp-content/uploads/2021/10/Bienvenida-al-PMM-nov-e1635919765704.png
END:VEVENT
END:VCALENDAR