BEGIN:VCALENDAR
VERSION:2.0
PRODID:-//Pacto Mundial México - ECPv5.1.5//NONSGML v1.0//EN
CALSCALE:GREGORIAN
METHOD:PUBLISH
X-WR-CALNAME:Pacto Mundial México
X-ORIGINAL-URL:https://www.pactomundial.org.mx
X-WR-CALDESC:Eventos para Pacto Mundial México
BEGIN:VTIMEZONE
TZID:America/Mexico_City
BEGIN:DAYLIGHT
TZOFFSETFROM:-0600
TZOFFSETTO:-0500
TZNAME:CDT
DTSTART:20200405T080000
END:DAYLIGHT
BEGIN:STANDARD
TZOFFSETFROM:-0500
TZOFFSETTO:-0600
TZNAME:CST
DTSTART:20201025T070000
END:STANDARD
END:VTIMEZONE
BEGIN:VEVENT
DTSTART;TZID=America/Mexico_City:20200910T100000
DTEND;TZID=America/Mexico_City:20200910T110000
DTSTAMP:20230415T043532
CREATED:20200818T015519Z
LAST-MODIFIED:20200904T162440Z
UID:7624-1599732000-1599735600@www.pactomundial.org.mx
SUMMARY:Buenas prácticas para la integridad empresarial
DESCRIPTION:
URL:https://www.pactomundial.org.mx/evento/buenas-practicas-para-la-integridad-empresarial/
CATEGORIES:Estándares Laborales,WEBINAR
ATTACH;FMTTYPE=image/png:https://www.pactomundial.org.mx/wp-content/uploads/2020/08/BuenasPracticasIntegridadEmpresarial-sin-link-1.png
END:VEVENT
END:VCALENDAR