BEGIN:VCALENDAR
VERSION:2.0
PRODID:-//Pacto Mundial México - ECPv5.1.5//NONSGML v1.0//EN
CALSCALE:GREGORIAN
METHOD:PUBLISH
X-WR-CALNAME:Pacto Mundial México
X-ORIGINAL-URL:https://www.pactomundial.org.mx
X-WR-CALDESC:Eventos para Pacto Mundial México
BEGIN:VTIMEZONE
TZID:America/Mexico_City
BEGIN:DAYLIGHT
TZOFFSETFROM:-0600
TZOFFSETTO:-0500
TZNAME:CDT
DTSTART:20200405T080000
END:DAYLIGHT
BEGIN:STANDARD
TZOFFSETFROM:-0500
TZOFFSETTO:-0600
TZNAME:CST
DTSTART:20201025T070000
END:STANDARD
END:VTIMEZONE
BEGIN:VEVENT
DTSTART;TZID=America/Mexico_City:20200403T080000
DTEND;TZID=America/Mexico_City:20200403T170000
DTSTAMP:20230415T044142
CREATED:20200421T214744Z
LAST-MODIFIED:20200421T214744Z
UID:6784-1585900800-1585933200@www.pactomundial.org.mx
SUMMARY:Caring for Climate y la vulnerabilidad empresarial
DESCRIPTION:Este es un espacio creado para aquellas personas que desean conocer y afianzar más sus conocimientos acerca de la Sostenibilidad y los aspectos que ella trae consigo\, como lo son: la Responsabilidad Social Empresarial y los Objetivos de Desarrollo Sostenible. \nAdemás de ello podrán comprende  qué es Pacto Global Red Colombia \, los principios del Pacto Global\, los beneficios de estar adheridos y el paso a paso para este proceso\, de la mano del Director Ejecutivo de la Red \, Mauricio López y de la Coordinadora de Asuntos Ambientales. \n
URL:https://www.pactomundial.org.mx/evento/caring-for-climate-y-la-vulnerabilidad-empresarial/
LOCATION:Colombia
CATEGORIES:Estándares Laborales,WEBINAR
END:VEVENT
END:VCALENDAR