BEGIN:VCALENDAR
VERSION:2.0
PRODID:-//Pacto Mundial México - ECPv5.1.5//NONSGML v1.0//EN
CALSCALE:GREGORIAN
METHOD:PUBLISH
X-WR-CALNAME:Pacto Mundial México
X-ORIGINAL-URL:https://www.pactomundial.org.mx
X-WR-CALDESC:Eventos para Pacto Mundial México
BEGIN:VTIMEZONE
TZID:America/Mexico_City
BEGIN:DAYLIGHT
TZOFFSETFROM:-0600
TZOFFSETTO:-0500
TZNAME:CDT
DTSTART:20200405T080000
END:DAYLIGHT
BEGIN:STANDARD
TZOFFSETFROM:-0500
TZOFFSETTO:-0600
TZNAME:CST
DTSTART:20201025T070000
END:STANDARD
END:VTIMEZONE
BEGIN:VEVENT
DTSTART;TZID=America/Mexico_City:20200820T090000
DTEND;TZID=America/Mexico_City:20200820T110000
DTSTAMP:20230415T044229
CREATED:20200709T053358Z
LAST-MODIFIED:20200717T071245Z
UID:7439-1597914000-1597921200@www.pactomundial.org.mx
SUMMARY:Clausura del programa "Jóvenes Innovadores por los ODS"
DESCRIPTION:Sólo para empresas inscritas a la iniciativa \n
URL:https://www.pactomundial.org.mx/evento/clausura-del-programa-jovenes-innovadores-por-los-ods/
CATEGORIES:Jóvenes Innovadores por los ODS
ATTACH;FMTTYPE=image/jpeg:https://www.pactomundial.org.mx/wp-content/uploads/2020/07/maxresdefault.jpg
END:VEVENT
END:VCALENDAR