BEGIN:VCALENDAR
VERSION:2.0
PRODID:-//Pacto Mundial México - ECPv5.1.5//NONSGML v1.0//EN
CALSCALE:GREGORIAN
METHOD:PUBLISH
X-WR-CALNAME:Pacto Mundial México
X-ORIGINAL-URL:https://www.pactomundial.org.mx
X-WR-CALDESC:Eventos para Pacto Mundial México
BEGIN:VTIMEZONE
TZID:America/Mexico_City
BEGIN:DAYLIGHT
TZOFFSETFROM:-0600
TZOFFSETTO:-0500
TZNAME:CDT
DTSTART:20210404T080000
END:DAYLIGHT
BEGIN:STANDARD
TZOFFSETFROM:-0500
TZOFFSETTO:-0600
TZNAME:CST
DTSTART:20211031T070000
END:STANDARD
END:VTIMEZONE
BEGIN:VEVENT
DTSTART;TZID=America/Mexico_City:20210414T100000
DTEND;TZID=America/Mexico_City:20210414T110000
DTSTAMP:20230415T035821
CREATED:20210222T071953Z
LAST-MODIFIED:20210405T195914Z
UID:8658-1618394400-1618398000@www.pactomundial.org.mx
SUMMARY:Comunica tu compromiso con Pacto Mundial: Uso de imagen y logo
DESCRIPTION:Sólo para Adheridos \n
URL:https://www.pactomundial.org.mx/evento/comunica-tu-compromiso-con-pacto-mundial-uso-de-imagen-y-logo/
CATEGORIES:Recién Adheridos,Seminario
ATTACH;FMTTYPE=image/png:https://www.pactomundial.org.mx/wp-content/uploads/2021/02/01_Uso_Imagen_Logo_14_abril_21-1-e1617652738741.png
END:VEVENT
END:VCALENDAR