BEGIN:VCALENDAR
VERSION:2.0
PRODID:-//Pacto Mundial México - ECPv5.1.5//NONSGML v1.0//EN
CALSCALE:GREGORIAN
METHOD:PUBLISH
X-WR-CALNAME:Pacto Mundial México
X-ORIGINAL-URL:https://www.pactomundial.org.mx
X-WR-CALDESC:Eventos para Pacto Mundial México
BEGIN:VTIMEZONE
TZID:America/Mexico_City
BEGIN:DAYLIGHT
TZOFFSETFROM:-0600
TZOFFSETTO:-0500
TZNAME:CDT
DTSTART:20200405T080000
END:DAYLIGHT
BEGIN:STANDARD
TZOFFSETFROM:-0500
TZOFFSETTO:-0600
TZNAME:CST
DTSTART:20201025T070000
END:STANDARD
END:VTIMEZONE
BEGIN:VEVENT
DTSTART;TZID=America/Mexico_City:20200512T100000
DTEND;TZID=America/Mexico_City:20200512T230000
DTSTAMP:20230415T043712
CREATED:20200518T233424Z
LAST-MODIFIED:20200518T233424Z
UID:7119-1589277600-1589324400@www.pactomundial.org.mx
SUMMARY:Comunica tu compromiso con Pacto Mundial y ODS
DESCRIPTION:Recomendaciones para Empresas \n
URL:https://www.pactomundial.org.mx/evento/comunica-tu-compromiso-con-pacto-mundial-y-ods/
LOCATION:México\, México\, Mexico
CATEGORIES:Estándares Laborales
END:VEVENT
END:VCALENDAR