BEGIN:VCALENDAR
VERSION:2.0
PRODID:-//Pacto Mundial México - ECPv5.1.5//NONSGML v1.0//EN
CALSCALE:GREGORIAN
METHOD:PUBLISH
X-WR-CALNAME:Pacto Mundial México
X-ORIGINAL-URL:https://www.pactomundial.org.mx
X-WR-CALDESC:Eventos para Pacto Mundial México
BEGIN:VTIMEZONE
TZID:America/Mexico_City
BEGIN:DAYLIGHT
TZOFFSETFROM:-0600
TZOFFSETTO:-0500
TZNAME:CDT
DTSTART:20220403T080000
END:DAYLIGHT
BEGIN:STANDARD
TZOFFSETFROM:-0500
TZOFFSETTO:-0600
TZNAME:CST
DTSTART:20221030T070000
END:STANDARD
END:VTIMEZONE
BEGIN:VEVENT
DTSTART;TZID=America/Mexico_City:20220921T100000
DTEND;TZID=America/Mexico_City:20220921T110000
DTSTAMP:20230415T054828
CREATED:20220527T225207Z
LAST-MODIFIED:20220527T225255Z
UID:10544-1663754400-1663758000@www.pactomundial.org.mx
SUMMARY:Comunica tu Compromiso: Uso de imagen y logo
DESCRIPTION:Solo para Adheridos \n
URL:https://www.pactomundial.org.mx/evento/comunica-tu-compromiso-uso-de-imagen-y-logo-13/
CATEGORIES:Recién Adheridos,WEBINAR
ATTACH;FMTTYPE=image/jpeg:https://www.pactomundial.org.mx/wp-content/uploads/2022/05/Usodeimagen21Sept-e1653691843563.jpg
END:VEVENT
END:VCALENDAR