BEGIN:VCALENDAR
VERSION:2.0
PRODID:-//Pacto Mundial México - ECPv5.1.5//NONSGML v1.0//EN
CALSCALE:GREGORIAN
METHOD:PUBLISH
X-WR-CALNAME:Pacto Mundial México
X-ORIGINAL-URL:https://www.pactomundial.org.mx
X-WR-CALDESC:Eventos para Pacto Mundial México
BEGIN:VTIMEZONE
TZID:America/Mexico_City
BEGIN:DAYLIGHT
TZOFFSETFROM:-0600
TZOFFSETTO:-0500
TZNAME:CDT
DTSTART:20230402T080000
END:DAYLIGHT
BEGIN:STANDARD
TZOFFSETFROM:-0500
TZOFFSETTO:-0600
TZNAME:CST
DTSTART:20231029T070000
END:STANDARD
END:VTIMEZONE
BEGIN:VEVENT
DTSTART;TZID=America/Mexico_City:20230315T100000
DTEND;TZID=America/Mexico_City:20230315T110000
DTSTAMP:20230415T054136
CREATED:20230120T023136Z
LAST-MODIFIED:20230120T023136Z
UID:11587-1678874400-1678878000@www.pactomundial.org.mx
SUMMARY:Comunica tu Compromiso: Uso de imagen y logo
DESCRIPTION:Solo para Adheridos \nGratuito \n
URL:https://www.pactomundial.org.mx/evento/comunica-tu-compromiso-uso-de-imagen-y-logo-18/
CATEGORIES:Recién Adheridos,WEBINAR
ATTACH;FMTTYPE=image/jpeg:https://www.pactomundial.org.mx/wp-content/uploads/2023/01/2-Usoimagen-marzo-e1674181882724.jpg
END:VEVENT
END:VCALENDAR