BEGIN:VCALENDAR
VERSION:2.0
PRODID:-//Pacto Mundial México - ECPv5.1.5//NONSGML v1.0//EN
CALSCALE:GREGORIAN
METHOD:PUBLISH
X-WR-CALNAME:Pacto Mundial México
X-ORIGINAL-URL:https://www.pactomundial.org.mx
X-WR-CALDESC:Eventos para Pacto Mundial México
BEGIN:VTIMEZONE
TZID:America/Mexico_City
BEGIN:DAYLIGHT
TZOFFSETFROM:-0600
TZOFFSETTO:-0500
TZNAME:CDT
DTSTART:20220403T080000
END:DAYLIGHT
BEGIN:STANDARD
TZOFFSETFROM:-0500
TZOFFSETTO:-0600
TZNAME:CST
DTSTART:20221030T070000
END:STANDARD
END:VTIMEZONE
BEGIN:VEVENT
DTSTART;TZID=America/Mexico_City:20220420T100000
DTEND;TZID=America/Mexico_City:20220420T110000
DTSTAMP:20230415T053839
CREATED:20220209T051104Z
LAST-MODIFIED:20220209T051104Z
UID:10105-1650448800-1650452400@www.pactomundial.org.mx
SUMMARY:Comunica tu Compromiso: Uso de imagen y logo
DESCRIPTION:Solo para Adheridos \n
URL:https://www.pactomundial.org.mx/evento/comunica-tu-compromiso-uso-de-imagen-y-logo-8/
CATEGORIES:Recién Adheridos,WEBINAR
ATTACH;FMTTYPE=image/jpeg:https://www.pactomundial.org.mx/wp-content/uploads/2022/02/Usodeimagen20Abril-1-e1644383398610.jpg
END:VEVENT
END:VCALENDAR