BEGIN:VCALENDAR
VERSION:2.0
PRODID:-//Pacto Mundial México - ECPv5.1.5//NONSGML v1.0//EN
CALSCALE:GREGORIAN
METHOD:PUBLISH
X-WR-CALNAME:Pacto Mundial México
X-ORIGINAL-URL:https://www.pactomundial.org.mx
X-WR-CALDESC:Eventos para Pacto Mundial México
BEGIN:VTIMEZONE
TZID:America/Mexico_City
BEGIN:DAYLIGHT
TZOFFSETFROM:-0600
TZOFFSETTO:-0500
TZNAME:CDT
DTSTART:20210404T080000
END:DAYLIGHT
BEGIN:STANDARD
TZOFFSETFROM:-0500
TZOFFSETTO:-0600
TZNAME:CST
DTSTART:20211031T070000
END:STANDARD
END:VTIMEZONE
BEGIN:VEVENT
DTSTART;TZID=America/Mexico_City:20211116T100000
DTEND;TZID=America/Mexico_City:20211116T113000
DTSTAMP:20230415T060217
CREATED:20211102T004500Z
LAST-MODIFIED:20211102T004500Z
UID:9800-1637056800-1637062200@www.pactomundial.org.mx
SUMMARY:Construyendo un lugar de trabajo diverso e incluyente
DESCRIPTION:Sólo para Adheridos \n
URL:https://www.pactomundial.org.mx/evento/construyendo-un-lugar-de-trabajo-diverso-e-incluyente/
CATEGORIES:Seminario,WEBINAR
ATTACH;FMTTYPE=image/png:https://www.pactomundial.org.mx/wp-content/uploads/2021/11/Flyer-Webinar-4_Newsletter1a-e1635813872669.png
END:VEVENT
END:VCALENDAR