BEGIN:VCALENDAR
VERSION:2.0
PRODID:-//Pacto Mundial México - ECPv5.1.5//NONSGML v1.0//EN
CALSCALE:GREGORIAN
METHOD:PUBLISH
X-WR-CALNAME:Pacto Mundial México
X-ORIGINAL-URL:https://www.pactomundial.org.mx
X-WR-CALDESC:Eventos para Pacto Mundial México
BEGIN:VTIMEZONE
TZID:America/Mexico_City
BEGIN:DAYLIGHT
TZOFFSETFROM:-0600
TZOFFSETTO:-0500
TZNAME:CDT
DTSTART:20200405T080000
END:DAYLIGHT
BEGIN:STANDARD
TZOFFSETFROM:-0500
TZOFFSETTO:-0600
TZNAME:CST
DTSTART:20201025T070000
END:STANDARD
END:VTIMEZONE
BEGIN:VEVENT
DTSTART;TZID=America/Mexico_City:20200428T090000
DTEND;TZID=America/Mexico_City:20200428T100000
DTSTAMP:20230415T042437
CREATED:20200421T221559Z
LAST-MODIFIED:20200421T224402Z
UID:6805-1588064400-1588068000@www.pactomundial.org.mx
SUMMARY:COVID-19 y los derechos humanos: protección de los más vulnerables
DESCRIPTION:De la serie especial por COVID-19\n(Inglés). \nLa crisis de COVID-19 está poniendo a prueba la humanidad y la resistencia del mundo en un momento que ya está marcado por una desigualdad aguda. Con los impactos socioeconómicos de la pandemia que afecta particularmente a los grupos vulnerables y marginados\, las empresas pueden avanzar para apoyar a las comunidades necesitadas. \n  \n“Nuestra respuesta a esta epidemia debe abarcar\, y de hecho\, centrarse en aquellos a quienes la sociedad a menudo descuida o relega a un estado menor. De lo contrario\, fallará. La salud de cada persona está vinculada a la salud de los miembros más marginados de la comunidad “\, instó a mediados de marzo la Alta Comisionada de las Naciones Unidas para los Derechos Humanos\, Michelle Bachelet. \n  \nSin recursos suficientes para protegerse de los riesgos para la salud\, acceder a la atención médica o pagar los bienes esenciales\, muchos se encontrarán en situaciones precarias. Con la alarmante pérdida de empleos en todo el mundo\, el número de personas en tales situaciones aumentará inevitablemente. \n  \nEsta sesión de la Academia destacará las acciones que las empresas pueden tomar para apoyar los derechos humanos y unirse a la lucha contra COVID-19. A través de ejemplos de mejores prácticas y conocimientos de expertos en derechos humanos\, los asistentes a la sesión aprenderán cómo las empresas pueden desempeñar un papel clave y defender a los más vulnerables y marginados durante esta pandemia y más allá. \n  \nPonentes: \n– Michelle Bachelet\, Alta Comisionada de las Naciones Unidas para los Derechos Humanos \n– Roberto Marques\, CEO\, Natura & Co \n  \n
URL:https://www.pactomundial.org.mx/evento/covid-19-y-los-derechos-humanos-proteccion-de-los-mas-vulnerables/
LOCATION:Nueva York
CATEGORIES:Estándares Laborales,Inglés,WEBINAR
END:VEVENT
END:VCALENDAR