BEGIN:VCALENDAR
VERSION:2.0
PRODID:-//Pacto Mundial México - ECPv5.1.5//NONSGML v1.0//EN
CALSCALE:GREGORIAN
METHOD:PUBLISH
X-WR-CALNAME:Pacto Mundial México
X-ORIGINAL-URL:https://www.pactomundial.org.mx
X-WR-CALDESC:Eventos para Pacto Mundial México
BEGIN:VTIMEZONE
TZID:America/Mexico_City
BEGIN:DAYLIGHT
TZOFFSETFROM:-0600
TZOFFSETTO:-0500
TZNAME:CDT
DTSTART:20200405T080000
END:DAYLIGHT
BEGIN:STANDARD
TZOFFSETFROM:-0500
TZOFFSETTO:-0600
TZNAME:CST
DTSTART:20201025T070000
END:STANDARD
END:VTIMEZONE
BEGIN:VEVENT
DTSTART;TZID=America/Mexico_City:20200421T100000
DTEND;TZID=America/Mexico_City:20200421T110000
DTSTAMP:20230415T044118
CREATED:20200421T220430Z
LAST-MODIFIED:20200421T220752Z
UID:6796-1587463200-1587466800@www.pactomundial.org.mx
SUMMARY:Debida Diligencia en Derechos Humanos-1
DESCRIPTION:Sólo para Empresas. \n
URL:https://www.pactomundial.org.mx/evento/debida-diligencia-en-derechos-humanos-1/
LOCATION:México\, México\, Mexico
CATEGORIES:Derechos Humanos,Taller Virtual
END:VEVENT
END:VCALENDAR