BEGIN:VCALENDAR
VERSION:2.0
PRODID:-//Pacto Mundial México - ECPv5.1.5//NONSGML v1.0//EN
CALSCALE:GREGORIAN
METHOD:PUBLISH
X-WR-CALNAME:Pacto Mundial México
X-ORIGINAL-URL:https://www.pactomundial.org.mx
X-WR-CALDESC:Eventos para Pacto Mundial México
BEGIN:VTIMEZONE
TZID:America/Mexico_City
BEGIN:DAYLIGHT
TZOFFSETFROM:-0600
TZOFFSETTO:-0500
TZNAME:CDT
DTSTART:20210404T080000
END:DAYLIGHT
BEGIN:STANDARD
TZOFFSETFROM:-0500
TZOFFSETTO:-0600
TZNAME:CST
DTSTART:20211031T070000
END:STANDARD
END:VTIMEZONE
BEGIN:VEVENT
DTSTART;TZID=America/Mexico_City:20210121T090000
DTEND;TZID=America/Mexico_City:20210121T100000
DTSTAMP:20230415T044249
CREATED:20210122T161500Z
LAST-MODIFIED:20210122T161500Z
UID:8536-1611219600-1611223200@www.pactomundial.org.mx
SUMMARY:Derechos Humanos y Resiliencia Empresarial / Sesión 5
DESCRIPTION:Abierto al público \n
URL:https://www.pactomundial.org.mx/evento/derechos-humanos-y-resiliencia-empresarial-sesion-5/
CATEGORIES:Derechos Humanos,Estándares Laborales,WEBINAR
ATTACH;FMTTYPE=image/jpeg:https://www.pactomundial.org.mx/wp-content/uploads/2021/01/SESIÓN-5.jpg
END:VEVENT
END:VCALENDAR