BEGIN:VCALENDAR
VERSION:2.0
PRODID:-//Pacto Mundial México - ECPv5.1.5//NONSGML v1.0//EN
CALSCALE:GREGORIAN
METHOD:PUBLISH
X-WR-CALNAME:Pacto Mundial México
X-ORIGINAL-URL:https://www.pactomundial.org.mx
X-WR-CALDESC:Eventos para Pacto Mundial México
BEGIN:VTIMEZONE
TZID:America/Mexico_City
BEGIN:DAYLIGHT
TZOFFSETFROM:-0600
TZOFFSETTO:-0500
TZNAME:CDT
DTSTART:20200405T080000
END:DAYLIGHT
BEGIN:STANDARD
TZOFFSETFROM:-0500
TZOFFSETTO:-0600
TZNAME:CST
DTSTART:20201025T070000
END:STANDARD
END:VTIMEZONE
BEGIN:VEVENT
DTSTART;TZID=America/Mexico_City:20200629T100000
DTEND;TZID=America/Mexico_City:20200629T120000
DTSTAMP:20230415T043438
CREATED:20200519T002152Z
LAST-MODIFIED:20200622T191703Z
UID:7143-1593424800-1593432000@www.pactomundial.org.mx
SUMMARY:Taller virtual: "Relacionamiento con grupos de interés" IDHE / Día 1
DESCRIPTION:
URL:https://www.pactomundial.org.mx/evento/dialogo-con-grupos-de-interes-idhe/
LOCATION:México\, México\, Mexico
CATEGORIES:Derechos Humanos
ATTACH;FMTTYPE=image/jpeg:https://www.pactomundial.org.mx/wp-content/uploads/2020/05/Iniciativa-DHyE.jpg
END:VEVENT
END:VCALENDAR