BEGIN:VCALENDAR
VERSION:2.0
PRODID:-//Pacto Mundial México - ECPv5.1.5//NONSGML v1.0//EN
CALSCALE:GREGORIAN
METHOD:PUBLISH
X-WR-CALNAME:Pacto Mundial México
X-ORIGINAL-URL:https://www.pactomundial.org.mx
X-WR-CALDESC:Eventos para Pacto Mundial México
BEGIN:VTIMEZONE
TZID:America/Mexico_City
BEGIN:DAYLIGHT
TZOFFSETFROM:-0600
TZOFFSETTO:-0500
TZNAME:CDT
DTSTART:20200405T080000
END:DAYLIGHT
BEGIN:STANDARD
TZOFFSETFROM:-0500
TZOFFSETTO:-0600
TZNAME:CST
DTSTART:20201025T070000
END:STANDARD
END:VTIMEZONE
BEGIN:VEVENT
DTSTART;TZID=America/Mexico_City:20201210T090000
DTEND;TZID=America/Mexico_City:20201210T100000
DTSTAMP:20230415T043800
CREATED:20201207T211812Z
LAST-MODIFIED:20201208T171148Z
UID:8366-1607590800-1607594400@www.pactomundial.org.mx
SUMMARY:El papel de las empresas ante el cambio climático / Sesión 4
DESCRIPTION:Abierto al Público \n
URL:https://www.pactomundial.org.mx/evento/el-papel-de-las-empresas-ante-el-cambio-climatico/
LOCATION:En Línea
CATEGORIES:Acción por el clima,Estándares Laborales,Medio Ambiente
ATTACH;FMTTYPE=image/png:https://www.pactomundial.org.mx/wp-content/uploads/2020/12/4ta-PetStar-panelistas.png
END:VEVENT
END:VCALENDAR