BEGIN:VCALENDAR
VERSION:2.0
PRODID:-//Pacto Mundial México - ECPv5.1.5//NONSGML v1.0//EN
CALSCALE:GREGORIAN
METHOD:PUBLISH
X-WR-CALNAME:Pacto Mundial México
X-ORIGINAL-URL:https://www.pactomundial.org.mx
X-WR-CALDESC:Eventos para Pacto Mundial México
BEGIN:VTIMEZONE
TZID:America/Mexico_City
BEGIN:DAYLIGHT
TZOFFSETFROM:-0600
TZOFFSETTO:-0500
TZNAME:CDT
DTSTART:20210404T080000
END:DAYLIGHT
BEGIN:STANDARD
TZOFFSETFROM:-0500
TZOFFSETTO:-0600
TZNAME:CST
DTSTART:20211031T070000
END:STANDARD
END:VTIMEZONE
BEGIN:VEVENT
DTSTART;TZID=America/Mexico_City:20210922T100000
DTEND;TZID=America/Mexico_City:20210922T110000
DTSTAMP:20230415T054625
CREATED:20210702T202455Z
LAST-MODIFIED:20210702T202455Z
UID:9184-1632304800-1632308400@www.pactomundial.org.mx
SUMMARY:Elaboración de COP y COE
DESCRIPTION:Sólo para Adheridos \n
URL:https://www.pactomundial.org.mx/evento/elaboracion-de-cop-y-coe-4/
CATEGORIES:Recién Adheridos,Seminario
ATTACH;FMTTYPE=image/png:https://www.pactomundial.org.mx/wp-content/uploads/2021/07/Elaboracion_COP_COE-22SEPT.png
END:VEVENT
END:VCALENDAR