BEGIN:VCALENDAR
VERSION:2.0
PRODID:-//Pacto Mundial México - ECPv5.1.5//NONSGML v1.0//EN
CALSCALE:GREGORIAN
METHOD:PUBLISH
X-WR-CALNAME:Pacto Mundial México
X-ORIGINAL-URL:https://www.pactomundial.org.mx
X-WR-CALDESC:Eventos para Pacto Mundial México
BEGIN:VTIMEZONE
TZID:America/Mexico_City
BEGIN:DAYLIGHT
TZOFFSETFROM:-0600
TZOFFSETTO:-0500
TZNAME:CDT
DTSTART:20210404T080000
END:DAYLIGHT
BEGIN:STANDARD
TZOFFSETFROM:-0500
TZOFFSETTO:-0600
TZNAME:CST
DTSTART:20211031T070000
END:STANDARD
END:VTIMEZONE
BEGIN:VEVENT
DTSTART;TZID=America/Mexico_City:20210929T094500
DTEND;TZID=America/Mexico_City:20210929T110000
DTSTAMP:20230415T055239
CREATED:20210831T214522Z
LAST-MODIFIED:20210831T214522Z
UID:9606-1632908700-1632913200@www.pactomundial.org.mx
SUMMARY:Eliminación del Trabajo Infantil en el Sector Textil
DESCRIPTION:Sólo para Adheridos \n
URL:https://www.pactomundial.org.mx/evento/eliminacion-del-trabajo-infantil-en-el-sector-textil/
CATEGORIES:WEBINAR
ATTACH;FMTTYPE=image/png:https://www.pactomundial.org.mx/wp-content/uploads/2021/08/Elim-Trabajo-Infantil-Sec-Tex-07-e1630446309550.png
END:VEVENT
END:VCALENDAR