BEGIN:VCALENDAR
VERSION:2.0
PRODID:-//Pacto Mundial México - ECPv5.1.5//NONSGML v1.0//EN
CALSCALE:GREGORIAN
METHOD:PUBLISH
X-WR-CALNAME:Pacto Mundial México
X-ORIGINAL-URL:https://www.pactomundial.org.mx
X-WR-CALDESC:Eventos para Pacto Mundial México
BEGIN:VTIMEZONE
TZID:America/Mexico_City
BEGIN:DAYLIGHT
TZOFFSETFROM:-0600
TZOFFSETTO:-0500
TZNAME:CDT
DTSTART:20200405T080000
END:DAYLIGHT
BEGIN:STANDARD
TZOFFSETFROM:-0500
TZOFFSETTO:-0600
TZNAME:CST
DTSTART:20201025T070000
END:STANDARD
END:VTIMEZONE
BEGIN:VEVENT
DTSTART;TZID=America/Mexico_City:20200430T100000
DTEND;TZID=America/Mexico_City:20200430T113000
DTSTAMP:20230415T043707
CREATED:20200421T220948Z
LAST-MODIFIED:20200421T221741Z
UID:6800-1588240800-1588246200@www.pactomundial.org.mx
SUMMARY:Experiencias del sector privado ante el COVID-19
DESCRIPTION:Recomendaciones para Empresas \n
URL:https://www.pactomundial.org.mx/evento/encuentro-virtual-experiencias-del-sector-privado-ante-el-covid-19/
LOCATION:México\, México\, Mexico
CATEGORIES:COVID19,Estándares Laborales,WEBINAR
END:VEVENT
END:VCALENDAR