BEGIN:VCALENDAR
VERSION:2.0
PRODID:-//Pacto Mundial México - ECPv5.1.5//NONSGML v1.0//EN
CALSCALE:GREGORIAN
METHOD:PUBLISH
X-WR-CALNAME:Pacto Mundial México
X-ORIGINAL-URL:https://www.pactomundial.org.mx
X-WR-CALDESC:Eventos para Pacto Mundial México
BEGIN:VTIMEZONE
TZID:America/Mexico_City
BEGIN:DAYLIGHT
TZOFFSETFROM:-0600
TZOFFSETTO:-0500
TZNAME:CDT
DTSTART:20220403T080000
END:DAYLIGHT
BEGIN:STANDARD
TZOFFSETFROM:-0500
TZOFFSETTO:-0600
TZNAME:CST
DTSTART:20221030T070000
END:STANDARD
END:VTIMEZONE
BEGIN:VEVENT
DTSTART;VALUE=DATE:20220907
DTEND;VALUE=DATE:20220909
DTSTAMP:20230415T054216
CREATED:20220816T210658Z
LAST-MODIFIED:20220816T210914Z
UID:10875-1662508800-1662681599@www.pactomundial.org.mx
SUMMARY:Encuentro Empresarial por la Sostenibilidad
DESCRIPTION:Abierto a todo el público \n
URL:https://www.pactomundial.org.mx/evento/evento-regional/
ATTACH;FMTTYPE=image/jpeg:https://www.pactomundial.org.mx/wp-content/uploads/2022/08/Copia-de-EncuentroMonterreyFF.jpg
END:VEVENT
END:VCALENDAR