BEGIN:VCALENDAR
VERSION:2.0
PRODID:-//Pacto Mundial México - ECPv5.1.5//NONSGML v1.0//EN
CALSCALE:GREGORIAN
METHOD:PUBLISH
X-WR-CALNAME:Pacto Mundial México
X-ORIGINAL-URL:https://www.pactomundial.org.mx
X-WR-CALDESC:Eventos para Pacto Mundial México
BEGIN:VTIMEZONE
TZID:America/Mexico_City
BEGIN:DAYLIGHT
TZOFFSETFROM:-0600
TZOFFSETTO:-0500
TZNAME:CDT
DTSTART:20200405T080000
END:DAYLIGHT
BEGIN:STANDARD
TZOFFSETFROM:-0500
TZOFFSETTO:-0600
TZNAME:CST
DTSTART:20201025T070000
END:STANDARD
END:VTIMEZONE
BEGIN:VEVENT
DTSTART;TZID=America/Mexico_City:20200331T100000
DTEND;TZID=America/Mexico_City:20200331T110000
DTSTAMP:20230415T042411
CREATED:20200421T204035Z
LAST-MODIFIED:20200421T211534Z
UID:6747-1585648800-1585652400@www.pactomundial.org.mx
SUMMARY:Experiencias del Sector Privado ante Coronavirus y el Home Office
DESCRIPTION:Estamos ante una situación que va a mover los cimientos de nuestra sociedad\, de nuestra forma de pensar\, actuar y por supuesto de la forma en la que nuestras empresas realizan sus operaciones. \nTe invitamos a este webinar\, un espacio para escuchar y compartir las mejores prácticas en medio de esta contingencia sanitaria que nos ha remitido a que nuestros colaboradores trabajen desde casa. \n¡Te esperamos! \n
URL:https://www.pactomundial.org.mx/evento/experiencias-del-sector-privado-ante-coronavirus-y-el-home-office/
LOCATION:México\, México\, Mexico
CATEGORIES:Estándares Laborales,WEBINAR
END:VEVENT
END:VCALENDAR