BEGIN:VCALENDAR
VERSION:2.0
PRODID:-//Pacto Mundial México - ECPv5.1.5//NONSGML v1.0//EN
CALSCALE:GREGORIAN
METHOD:PUBLISH
X-WR-CALNAME:Pacto Mundial México
X-ORIGINAL-URL:https://www.pactomundial.org.mx
X-WR-CALDESC:Eventos para Pacto Mundial México
BEGIN:VTIMEZONE
TZID:America/Mexico_City
BEGIN:DAYLIGHT
TZOFFSETFROM:-0600
TZOFFSETTO:-0500
TZNAME:CDT
DTSTART:20220403T080000
END:DAYLIGHT
BEGIN:STANDARD
TZOFFSETFROM:-0500
TZOFFSETTO:-0600
TZNAME:CST
DTSTART:20221030T070000
END:STANDARD
END:VTIMEZONE
BEGIN:VEVENT
DTSTART;TZID=America/Mexico_City:20220322T083000
DTEND;TZID=America/Mexico_City:20220322T093000
DTSTAMP:20230415T054941
CREATED:20220318T003003Z
LAST-MODIFIED:20220318T003003Z
UID:10255-1647937800-1647941400@www.pactomundial.org.mx
SUMMARY:Experiencias Empresariales sobre la Gestión del Agua
DESCRIPTION:Abierto al Público \n
URL:https://www.pactomundial.org.mx/evento/experiencias-empresariales-sobre-la-gestion-del-agua/
CATEGORIES:Experiencias Empresariales,Gestión del Agua
ATTACH;FMTTYPE=image/png:https://www.pactomundial.org.mx/wp-content/uploads/2022/03/unnamed-e1647563271248.png
END:VEVENT
END:VCALENDAR