BEGIN:VCALENDAR
VERSION:2.0
PRODID:-//Pacto Mundial México - ECPv5.1.5//NONSGML v1.0//EN
CALSCALE:GREGORIAN
METHOD:PUBLISH
X-WR-CALNAME:Pacto Mundial México
X-ORIGINAL-URL:https://www.pactomundial.org.mx
X-WR-CALDESC:Eventos para Pacto Mundial México
BEGIN:VTIMEZONE
TZID:America/Mexico_City
BEGIN:DAYLIGHT
TZOFFSETFROM:-0600
TZOFFSETTO:-0500
TZNAME:CDT
DTSTART:20200405T080000
END:DAYLIGHT
BEGIN:STANDARD
TZOFFSETFROM:-0500
TZOFFSETTO:-0600
TZNAME:CST
DTSTART:20201025T070000
END:STANDARD
END:VTIMEZONE
BEGIN:VEVENT
DTSTART;TZID=America/Mexico_City:20200325T210000
DTEND;TZID=America/Mexico_City:20200325T220000
DTSTAMP:20230415T044328
CREATED:20200421T195808Z
LAST-MODIFIED:20200421T210430Z
UID:6723-1585170000-1585173600@www.pactomundial.org.mx
SUMMARY:Experiencias prácticas de China y Corea ante el COVID19
DESCRIPTION:Recomendaciones para Empresas. \n
URL:https://www.pactomundial.org.mx/evento/experiencias-practicas-de-china-y-corea-ante-el-covid19/
CATEGORIES:Estándares Laborales,WEBINAR
END:VEVENT
END:VCALENDAR