BEGIN:VCALENDAR
VERSION:2.0
PRODID:-//Pacto Mundial México - ECPv5.1.5//NONSGML v1.0//EN
CALSCALE:GREGORIAN
METHOD:PUBLISH
X-WR-CALNAME:Pacto Mundial México
X-ORIGINAL-URL:https://www.pactomundial.org.mx
X-WR-CALDESC:Eventos para Pacto Mundial México
BEGIN:VTIMEZONE
TZID:America/Mexico_City
BEGIN:DAYLIGHT
TZOFFSETFROM:-0600
TZOFFSETTO:-0500
TZNAME:CDT
DTSTART:20200405T080000
END:DAYLIGHT
BEGIN:STANDARD
TZOFFSETFROM:-0500
TZOFFSETTO:-0600
TZNAME:CST
DTSTART:20201025T070000
END:STANDARD
END:VTIMEZONE
BEGIN:VEVENT
DTSTART;TZID=America/Mexico_City:20201126T090000
DTEND;TZID=America/Mexico_City:20201126T100000
DTSTAMP:20230415T043808
CREATED:20201103T230423Z
LAST-MODIFIED:20201103T231719Z
UID:8080-1606381200-1606384800@www.pactomundial.org.mx
SUMMARY:Financiamiento Sustentable / Sesión 3
DESCRIPTION:Abierto al público \n
URL:https://www.pactomundial.org.mx/evento/financiamiento-sustentable-sesion-3/
CATEGORIES:Estándares Laborales,WEBINAR
ATTACH;FMTTYPE=image/png:https://www.pactomundial.org.mx/wp-content/uploads/2020/11/sesion-3-001.png
END:VEVENT
END:VCALENDAR