BEGIN:VCALENDAR
VERSION:2.0
PRODID:-//Pacto Mundial México - ECPv5.1.5//NONSGML v1.0//EN
CALSCALE:GREGORIAN
METHOD:PUBLISH
X-WR-CALNAME:Pacto Mundial México
X-ORIGINAL-URL:https://www.pactomundial.org.mx
X-WR-CALDESC:Eventos para Pacto Mundial México
BEGIN:VTIMEZONE
TZID:America/Mexico_City
BEGIN:DAYLIGHT
TZOFFSETFROM:-0600
TZOFFSETTO:-0500
TZNAME:CDT
DTSTART:20200405T080000
END:DAYLIGHT
BEGIN:STANDARD
TZOFFSETFROM:-0500
TZOFFSETTO:-0600
TZNAME:CST
DTSTART:20201025T070000
END:STANDARD
END:VTIMEZONE
BEGIN:VEVENT
DTSTART;TZID=America/Mexico_City:20200421T010000
DTEND;TZID=America/Mexico_City:20200421T020000
DTSTAMP:20230415T044257
CREATED:20200421T215240Z
LAST-MODIFIED:20200421T224240Z
UID:6788-1587430800-1587434400@www.pactomundial.org.mx
SUMMARY:Finanzas Sostenibles y el Futuro de la Economía Global
DESCRIPTION:\nDe la serie especial por COVID-19\n(Inglés). \n\n\nA raíz de la volatilidad económica creada por la pandemia\, está claro que los problemas ambientales\, sociales y de gobernanza (ESG) son factores materiales que las empresas deben gestionar adecuadamente. Desde esfuerzos de ayuda inmediata hasta estrategias de recuperación a largo plazo\, la financiación sostenible debe ser parte de la solución.\n\nLa sesión ofrecerá una discusión de alto nivel sobre las implicaciones de la pandemia de COVID-19 y cómo financiar la recuperación a través de una lente comercial responsable. Los participantes compartirán pasos concretos y perspectivas regionales para invertir en un sistema económico más resiliente a través de marcos globales como los Objetivos de Desarrollo Sostenible.\n\n\n\n\n
URL:https://www.pactomundial.org.mx/evento/finanzas-sostenibles-y-el-futuro-de-la-economia-global/
LOCATION:Nueva York
CATEGORIES:Estándares Laborales,Inglés,WEBINAR
END:VEVENT
END:VCALENDAR