BEGIN:VCALENDAR
VERSION:2.0
PRODID:-//Pacto Mundial México - ECPv5.1.5//NONSGML v1.0//EN
CALSCALE:GREGORIAN
METHOD:PUBLISH
X-WR-CALNAME:Pacto Mundial México
X-ORIGINAL-URL:https://www.pactomundial.org.mx
X-WR-CALDESC:Eventos para Pacto Mundial México
BEGIN:VTIMEZONE
TZID:America/Mexico_City
BEGIN:DAYLIGHT
TZOFFSETFROM:-0600
TZOFFSETTO:-0500
TZNAME:CDT
DTSTART:20210404T080000
END:DAYLIGHT
BEGIN:STANDARD
TZOFFSETFROM:-0500
TZOFFSETTO:-0600
TZNAME:CST
DTSTART:20211031T070000
END:STANDARD
END:VTIMEZONE
BEGIN:VEVENT
DTSTART;TZID=America/Mexico_City:20210407T130000
DTEND;TZID=America/Mexico_City:20210407T140000
DTSTAMP:20230415T055027
CREATED:20210405T205448Z
LAST-MODIFIED:20210405T205810Z
UID:8899-1617800400-1617804000@www.pactomundial.org.mx
SUMMARY:Firma convenio de colaboración Pacto Mundial México y Cámara de Diputados para acelerar las metas de la Agenda 2030
DESCRIPTION:Abierto al público \n
URL:https://www.pactomundial.org.mx/evento/firma-convenio-de-colaboracion-pacto-mundial-mexico-y-camara-de-diputados-para-acelerar-las-metas-de-la-agenda-2030/
CATEGORIES:Agenda 2030,ODS
ATTACH;FMTTYPE=image/jpeg:https://www.pactomundial.org.mx/wp-content/uploads/2021/04/Cam-Dip-INV-Horizontal-e1617656040457.jpeg
END:VEVENT
END:VCALENDAR