BEGIN:VCALENDAR
VERSION:2.0
PRODID:-//Pacto Mundial México - ECPv5.1.5//NONSGML v1.0//EN
CALSCALE:GREGORIAN
METHOD:PUBLISH
X-WR-CALNAME:Pacto Mundial México
X-ORIGINAL-URL:https://www.pactomundial.org.mx
X-WR-CALDESC:Eventos para Pacto Mundial México
BEGIN:VTIMEZONE
TZID:America/Mexico_City
BEGIN:DAYLIGHT
TZOFFSETFROM:-0600
TZOFFSETTO:-0500
TZNAME:CDT
DTSTART:20210404T080000
END:DAYLIGHT
BEGIN:STANDARD
TZOFFSETFROM:-0500
TZOFFSETTO:-0600
TZNAME:CST
DTSTART:20211031T070000
END:STANDARD
END:VTIMEZONE
BEGIN:VEVENT
DTSTART;TZID=America/Mexico_City:20210305T130000
DTEND;TZID=America/Mexico_City:20210305T140000
DTSTAMP:20230415T043911
CREATED:20210305T102339Z
LAST-MODIFIED:20210305T102339Z
UID:8722-1614949200-1614952800@www.pactomundial.org.mx
SUMMARY:Foro Liderazgo Femenino
DESCRIPTION:Abierto al Público \n
URL:https://www.pactomundial.org.mx/evento/foro-liderazgo-femenino/
CATEGORIES:Igualdad de Género
ATTACH;FMTTYPE=image/jpeg:https://www.pactomundial.org.mx/wp-content/uploads/2021/03/LIDERAZGO_1200-e1614939692851.jpg
END:VEVENT
END:VCALENDAR