BEGIN:VCALENDAR
VERSION:2.0
PRODID:-//Pacto Mundial México - ECPv5.1.5//NONSGML v1.0//EN
CALSCALE:GREGORIAN
METHOD:PUBLISH
X-WR-CALNAME:Pacto Mundial México
X-ORIGINAL-URL:https://www.pactomundial.org.mx
X-WR-CALDESC:Eventos para Pacto Mundial México
BEGIN:VTIMEZONE
TZID:America/Mexico_City
BEGIN:DAYLIGHT
TZOFFSETFROM:-0600
TZOFFSETTO:-0500
TZNAME:CDT
DTSTART:20200405T080000
END:DAYLIGHT
BEGIN:STANDARD
TZOFFSETFROM:-0500
TZOFFSETTO:-0600
TZNAME:CST
DTSTART:20201025T070000
END:STANDARD
END:VTIMEZONE
BEGIN:VEVENT
DTSTART;TZID=America/Mexico_City:20200609T080000
DTEND;TZID=America/Mexico_City:20200612T170000
DTSTAMP:20230415T044302
CREATED:20200527T170038Z
LAST-MODIFIED:20200611T013516Z
UID:7273-1591689600-1591981200@www.pactomundial.org.mx
SUMMARY:Foro Virtual de las Naciones Unidas sobre empresas responsables y los derechos humanos
DESCRIPTION:
URL:https://www.pactomundial.org.mx/evento/foro-virtual-de-las-naciones-unidas-sobre-empresas-responsables-y-los-derechos-humanos/
CATEGORIES:Derechos Humanos,Estándares Laborales
ATTACH;FMTTYPE=image/png:https://www.pactomundial.org.mx/wp-content/uploads/2020/05/Captura-de-Pantalla-2020-06-10-a-las-8.33.53-p.-m..png
END:VEVENT
END:VCALENDAR