BEGIN:VCALENDAR
VERSION:2.0
PRODID:-//Pacto Mundial México - ECPv5.1.5//NONSGML v1.0//EN
CALSCALE:GREGORIAN
METHOD:PUBLISH
X-WR-CALNAME:Pacto Mundial México
X-ORIGINAL-URL:https://www.pactomundial.org.mx
X-WR-CALDESC:Eventos para Pacto Mundial México
BEGIN:VTIMEZONE
TZID:America/Mexico_City
BEGIN:DAYLIGHT
TZOFFSETFROM:-0600
TZOFFSETTO:-0500
TZNAME:CDT
DTSTART:20200405T080000
END:DAYLIGHT
BEGIN:STANDARD
TZOFFSETFROM:-0500
TZOFFSETTO:-0600
TZNAME:CST
DTSTART:20201025T070000
END:STANDARD
END:VTIMEZONE
BEGIN:VEVENT
DTSTART;TZID=America/Mexico_City:20200930T100000
DTEND;TZID=America/Mexico_City:20200930T230000
DTSTAMP:20230415T044222
CREATED:20200818T020957Z
LAST-MODIFIED:20200904T170358Z
UID:7633-1601460000-1601506800@www.pactomundial.org.mx
SUMMARY:El camino a la economía circular
DESCRIPTION:
URL:https://www.pactomundial.org.mx/evento/integrando-los-objetivos-de-desarrollo-sostenible-en-la-estrategia-de-negocio-2/
ATTACH;FMTTYPE=image/jpeg:https://www.pactomundial.org.mx/wp-content/uploads/2020/08/save-the-date.jpg
END:VEVENT
END:VCALENDAR