BEGIN:VCALENDAR
VERSION:2.0
PRODID:-//Pacto Mundial México - ECPv5.1.5//NONSGML v1.0//EN
CALSCALE:GREGORIAN
METHOD:PUBLISH
X-WR-CALNAME:Pacto Mundial México
X-ORIGINAL-URL:https://www.pactomundial.org.mx
X-WR-CALDESC:Eventos para Pacto Mundial México
BEGIN:VTIMEZONE
TZID:America/Mexico_City
BEGIN:DAYLIGHT
TZOFFSETFROM:-0600
TZOFFSETTO:-0500
TZNAME:CDT
DTSTART:20210404T080000
END:DAYLIGHT
BEGIN:STANDARD
TZOFFSETFROM:-0500
TZOFFSETTO:-0600
TZNAME:CST
DTSTART:20211031T070000
END:STANDARD
END:VTIMEZONE
BEGIN:VEVENT
DTSTART;TZID=America/Mexico_City:20211005T100000
DTEND;TZID=America/Mexico_City:20211005T113000
DTSTAMP:20230415T055125
CREATED:20210823T225909Z
LAST-MODIFIED:20210925T000126Z
UID:9528-1633428000-1633433400@www.pactomundial.org.mx
SUMMARY:La realidad del trabajo infantil en México
DESCRIPTION:Sólo para Adheridos \n
URL:https://www.pactomundial.org.mx/evento/la-realidad-del-trabajo-infantil-en-mexico-rompiendo-la-tradicion-y-la-explotacion/
CATEGORIES:Derechos Humanos,WEBINAR
ATTACH;FMTTYPE=image/png:https://www.pactomundial.org.mx/wp-content/uploads/2021/09/Webinar-3-Diez-Principios-e1632528055633.png
END:VEVENT
END:VCALENDAR