BEGIN:VCALENDAR
VERSION:2.0
PRODID:-//Pacto Mundial México - ECPv5.1.5//NONSGML v1.0//EN
CALSCALE:GREGORIAN
METHOD:PUBLISH
X-WR-CALNAME:Pacto Mundial México
X-ORIGINAL-URL:https://www.pactomundial.org.mx
X-WR-CALDESC:Eventos para Pacto Mundial México
BEGIN:VTIMEZONE
TZID:America/Mexico_City
BEGIN:DAYLIGHT
TZOFFSETFROM:-0600
TZOFFSETTO:-0500
TZNAME:CDT
DTSTART:20210404T080000
END:DAYLIGHT
BEGIN:STANDARD
TZOFFSETFROM:-0500
TZOFFSETTO:-0600
TZNAME:CST
DTSTART:20211031T070000
END:STANDARD
END:VTIMEZONE
BEGIN:VEVENT
DTSTART;TZID=America/Mexico_City:20211015T110000
DTEND;TZID=America/Mexico_City:20211015T120000
DTSTAMP:20230415T055521
CREATED:20211013T232436Z
LAST-MODIFIED:20211013T232436Z
UID:9761-1634295600-1634299200@www.pactomundial.org.mx
SUMMARY:Lanzamiento Aula ODS4
DESCRIPTION:Abierto al Público \n
URL:https://www.pactomundial.org.mx/evento/lanzamiento-aula-ods4/
CATEGORIES:ODS,Seminario
ATTACH;FMTTYPE=image/jpeg:https://www.pactomundial.org.mx/wp-content/uploads/2021/10/Invitación-Lanzamiento-Aula-ODS4_GTA2030-Educación-de-Calidad-e1634167374807.jpg
END:VEVENT
END:VCALENDAR