BEGIN:VCALENDAR
VERSION:2.0
PRODID:-//Pacto Mundial México - ECPv5.1.5//NONSGML v1.0//EN
CALSCALE:GREGORIAN
METHOD:PUBLISH
X-WR-CALNAME:Pacto Mundial México
X-ORIGINAL-URL:https://www.pactomundial.org.mx
X-WR-CALDESC:Eventos para Pacto Mundial México
BEGIN:VTIMEZONE
TZID:America/Mexico_City
BEGIN:DAYLIGHT
TZOFFSETFROM:-0600
TZOFFSETTO:-0500
TZNAME:CDT
DTSTART:20210404T080000
END:DAYLIGHT
BEGIN:STANDARD
TZOFFSETFROM:-0500
TZOFFSETTO:-0600
TZNAME:CST
DTSTART:20211031T070000
END:STANDARD
END:VTIMEZONE
BEGIN:VEVENT
DTSTART;TZID=America/Mexico_City:20210921T160000
DTEND;TZID=America/Mexico_City:20210921T170000
DTSTAMP:20230415T054439
CREATED:20210921T141904Z
LAST-MODIFIED:20210921T141904Z
UID:9676-1632240000-1632243600@www.pactomundial.org.mx
SUMMARY:Lanzamiento GTA2030 | Educación de Calidad
DESCRIPTION:Abierto al público \n
URL:https://www.pactomundial.org.mx/evento/lanzamiento-gta2030-educacion-de-calidad/
CATEGORIES:WEBINAR
ATTACH;FMTTYPE=image/jpeg:https://www.pactomundial.org.mx/wp-content/uploads/2021/09/Invitación-Evento-21-Septiembre-21_Formación-Docentes-e1632233764479.jpg
END:VEVENT
END:VCALENDAR