BEGIN:VCALENDAR
VERSION:2.0
PRODID:-//Pacto Mundial México - ECPv5.1.5//NONSGML v1.0//EN
CALSCALE:GREGORIAN
METHOD:PUBLISH
X-WR-CALNAME:Pacto Mundial México
X-ORIGINAL-URL:https://www.pactomundial.org.mx
X-WR-CALDESC:Eventos para Pacto Mundial México
BEGIN:VTIMEZONE
TZID:America/Mexico_City
BEGIN:DAYLIGHT
TZOFFSETFROM:-0600
TZOFFSETTO:-0500
TZNAME:CDT
DTSTART:20200405T080000
END:DAYLIGHT
BEGIN:STANDARD
TZOFFSETFROM:-0500
TZOFFSETTO:-0600
TZNAME:CST
DTSTART:20201025T070000
END:STANDARD
END:VTIMEZONE
BEGIN:VEVENT
DTSTART;TZID=America/Mexico_City:20200729T100000
DTEND;TZID=America/Mexico_City:20200729T110000
DTSTAMP:20230415T043917
CREATED:20200709T025544Z
LAST-MODIFIED:20200717T071037Z
UID:7425-1596016800-1596020400@www.pactomundial.org.mx
SUMMARY:Lanzamiento: Meta igualdad de género
DESCRIPTION:Sólo para empresas inscritas a la iniciativa \n
URL:https://www.pactomundial.org.mx/evento/lanzamiento-meta-igualdad-de-genero/
CATEGORIES:Estándares Laborales,Igualdad de Género
ATTACH;FMTTYPE=image/png:https://www.pactomundial.org.mx/wp-content/uploads/2020/07/Captura-de-Pantalla-2020-06-22-a-las-5.53.09-p.-m..png
END:VEVENT
END:VCALENDAR