BEGIN:VCALENDAR
VERSION:2.0
PRODID:-//Pacto Mundial México - ECPv5.1.5//NONSGML v1.0//EN
CALSCALE:GREGORIAN
METHOD:PUBLISH
X-WR-CALNAME:Pacto Mundial México
X-ORIGINAL-URL:https://www.pactomundial.org.mx
X-WR-CALDESC:Eventos para Pacto Mundial México
BEGIN:VTIMEZONE
TZID:America/Mexico_City
BEGIN:DAYLIGHT
TZOFFSETFROM:-0600
TZOFFSETTO:-0500
TZNAME:CDT
DTSTART:20200405T080000
END:DAYLIGHT
BEGIN:STANDARD
TZOFFSETFROM:-0500
TZOFFSETTO:-0600
TZNAME:CST
DTSTART:20201025T070000
END:STANDARD
END:VTIMEZONE
BEGIN:VEVENT
DTSTART;TZID=America/Mexico_City:20200615T080000
DTEND;TZID=America/Mexico_City:20200615T230000
DTSTAMP:20230415T044017
CREATED:20200519T004741Z
LAST-MODIFIED:20200611T014732Z
UID:7157-1592208000-1592262000@www.pactomundial.org.mx
SUMMARY:Leaders Summit 2020 / Día 1
DESCRIPTION:
URL:https://www.pactomundial.org.mx/evento/leaders-summit-2020-dia-1/
LOCATION:Global
CATEGORIES:Estándares Laborales
ATTACH;FMTTYPE=image/jpeg:https://www.pactomundial.org.mx/wp-content/uploads/2020/05/EY9INP9WAAUPL7E.jpg
END:VEVENT
END:VCALENDAR