BEGIN:VCALENDAR
VERSION:2.0
PRODID:-//Pacto Mundial México - ECPv5.1.5//NONSGML v1.0//EN
CALSCALE:GREGORIAN
METHOD:PUBLISH
X-WR-CALNAME:Pacto Mundial México
X-ORIGINAL-URL:https://www.pactomundial.org.mx
X-WR-CALDESC:Eventos para Pacto Mundial México
BEGIN:VTIMEZONE
TZID:America/Mexico_City
BEGIN:DAYLIGHT
TZOFFSETFROM:-0600
TZOFFSETTO:-0500
TZNAME:CDT
DTSTART:20210404T080000
END:DAYLIGHT
BEGIN:STANDARD
TZOFFSETFROM:-0500
TZOFFSETTO:-0600
TZNAME:CST
DTSTART:20211031T070000
END:STANDARD
END:VTIMEZONE
BEGIN:VEVENT
DTSTART;TZID=America/Mexico_City:20210615T070000
DTEND;TZID=America/Mexico_City:20210616T090000
DTSTAMP:20230415T055314
CREATED:20210503T200824Z
LAST-MODIFIED:20210503T220410Z
UID:8967-1623740400-1623834000@www.pactomundial.org.mx
SUMMARY:Leaders Summit 2021
DESCRIPTION:Gratis para empresas adheridas y sus colaboradores. \n
URL:https://www.pactomundial.org.mx/evento/leaders-summit-2021/
ATTACH;FMTTYPE=image/png:https://www.pactomundial.org.mx/wp-content/uploads/2021/05/2021-LS-Twitter-general-ES_1_Twitter-general-3-1-e1620079434939.png
END:VEVENT
END:VCALENDAR