BEGIN:VCALENDAR
VERSION:2.0
PRODID:-//Pacto Mundial México - ECPv5.1.5//NONSGML v1.0//EN
CALSCALE:GREGORIAN
METHOD:PUBLISH
X-WR-CALNAME:Pacto Mundial México
X-ORIGINAL-URL:https://www.pactomundial.org.mx
X-WR-CALDESC:Eventos para Pacto Mundial México
BEGIN:VTIMEZONE
TZID:America/Mexico_City
BEGIN:DAYLIGHT
TZOFFSETFROM:-0600
TZOFFSETTO:-0500
TZNAME:CDT
DTSTART:20200405T080000
END:DAYLIGHT
BEGIN:STANDARD
TZOFFSETFROM:-0500
TZOFFSETTO:-0600
TZNAME:CST
DTSTART:20201025T070000
END:STANDARD
END:VTIMEZONE
BEGIN:VEVENT
DTSTART;TZID=America/Mexico_City:20200520T090000
DTEND;TZID=America/Mexico_City:20200520T100000
DTSTAMP:20230415T044152
CREATED:20200518T235042Z
LAST-MODIFIED:20200518T235102Z
UID:7127-1589965200-1589968800@www.pactomundial.org.mx
SUMMARY:Nuevos recursos para establecer objetivos basados en ciencia
DESCRIPTION:
URL:https://www.pactomundial.org.mx/evento/nuevos-recursos-para-establecer-objetivos-basados-en-ciencia/
LOCATION:México\, México\, Mexico
CATEGORIES:Inglés,Medio Ambiente,WEBINAR
END:VEVENT
END:VCALENDAR