BEGIN:VCALENDAR
VERSION:2.0
PRODID:-//Pacto Mundial México - ECPv5.1.5//NONSGML v1.0//EN
CALSCALE:GREGORIAN
METHOD:PUBLISH
X-WR-CALNAME:Pacto Mundial México
X-ORIGINAL-URL:https://www.pactomundial.org.mx
X-WR-CALDESC:Eventos para Pacto Mundial México
BEGIN:VTIMEZONE
TZID:America/Mexico_City
BEGIN:DAYLIGHT
TZOFFSETFROM:-0600
TZOFFSETTO:-0500
TZNAME:CDT
DTSTART:20200405T080000
END:DAYLIGHT
BEGIN:STANDARD
TZOFFSETFROM:-0500
TZOFFSETTO:-0600
TZNAME:CST
DTSTART:20201025T070000
END:STANDARD
END:VTIMEZONE
BEGIN:VEVENT
DTSTART;TZID=America/Mexico_City:20200326T100000
DTEND;TZID=America/Mexico_City:20200326T110000
DTSTAMP:20230415T043447
CREATED:20200421T200827Z
LAST-MODIFIED:20200421T210631Z
UID:6736-1585216800-1585220400@www.pactomundial.org.mx
SUMMARY:Pandemia y el riesgo sistémico
DESCRIPTION:Recomendaciones para Empresas. \n
URL:https://www.pactomundial.org.mx/evento/pandemia-y-el-riesgo-sistemico-coordina-undrr-para-las-americas-y-el-caribe%ef%bb%bf/
LOCATION:Panamá
CATEGORIES:Estándares Laborales,WEBINAR
END:VEVENT
END:VCALENDAR