BEGIN:VCALENDAR
VERSION:2.0
PRODID:-//Pacto Mundial México - ECPv5.1.5//NONSGML v1.0//EN
CALSCALE:GREGORIAN
METHOD:PUBLISH
X-WR-CALNAME:Pacto Mundial México
X-ORIGINAL-URL:https://www.pactomundial.org.mx
X-WR-CALDESC:Eventos para Pacto Mundial México
BEGIN:VTIMEZONE
TZID:America/Mexico_City
BEGIN:DAYLIGHT
TZOFFSETFROM:-0600
TZOFFSETTO:-0500
TZNAME:CDT
DTSTART:20200405T080000
END:DAYLIGHT
BEGIN:STANDARD
TZOFFSETFROM:-0500
TZOFFSETTO:-0600
TZNAME:CST
DTSTART:20201025T070000
END:STANDARD
END:VTIMEZONE
BEGIN:VEVENT
DTSTART;TZID=America/Mexico_City:20201015T100000
DTEND;TZID=America/Mexico_City:20201015T113000
DTSTAMP:20230415T043835
CREATED:20201008T142150Z
LAST-MODIFIED:20201008T142344Z
UID:7872-1602756000-1602761400@www.pactomundial.org.mx
SUMMARY:Perspectivas del Sector Privado sobre la Convención de los Derechos de las Personas con Discapacidad a la luz de la Agenda 2030
DESCRIPTION:Abierto al público \n
URL:https://www.pactomundial.org.mx/evento/perspectivas-del-sector-privado-sobre-la-convencion-de-los-derechos-de-las-personas-con-discapacidad-a-la-luz-de-la-agenda-2030/
LOCATION:En Línea
CATEGORIES:Derechos Humanos,Estándares Laborales
ATTACH;FMTTYPE=image/png:https://www.pactomundial.org.mx/wp-content/uploads/2020/10/teleton-2.png
END:VEVENT
END:VCALENDAR