BEGIN:VCALENDAR
VERSION:2.0
PRODID:-//Pacto Mundial México - ECPv5.1.5//NONSGML v1.0//EN
CALSCALE:GREGORIAN
METHOD:PUBLISH
X-WR-CALNAME:Pacto Mundial México
X-ORIGINAL-URL:https://www.pactomundial.org.mx
X-WR-CALDESC:Eventos para Pacto Mundial México
BEGIN:VTIMEZONE
TZID:America/Mexico_City
BEGIN:DAYLIGHT
TZOFFSETFROM:-0600
TZOFFSETTO:-0500
TZNAME:CDT
DTSTART:20220403T080000
END:DAYLIGHT
BEGIN:STANDARD
TZOFFSETFROM:-0500
TZOFFSETTO:-0600
TZNAME:CST
DTSTART:20221030T070000
END:STANDARD
END:VTIMEZONE
BEGIN:VEVENT
DTSTART;TZID=America/Mexico_City:20221026T100000
DTEND;TZID=America/Mexico_City:20221026T113000
DTSTAMP:20230415T053635
CREATED:20221005T235339Z
LAST-MODIFIED:20221005T235339Z
UID:11128-1666778400-1666783800@www.pactomundial.org.mx
SUMMARY:Rediseñando las Industrias: Introducción a la Economía Circular
DESCRIPTION:Sólo para Adheridos \n
URL:https://www.pactomundial.org.mx/evento/redisenando-las-industrias-introduccion-a-la-economia-circular/
CATEGORIES:Seminario
ATTACH;FMTTYPE=image/png:https://www.pactomundial.org.mx/wp-content/uploads/2022/10/Captura-de-Pantalla-2022-10-05-a-las-18.15.02.png
END:VEVENT
END:VCALENDAR