BEGIN:VCALENDAR
VERSION:2.0
PRODID:-//Pacto Mundial México - ECPv5.1.5//NONSGML v1.0//EN
CALSCALE:GREGORIAN
METHOD:PUBLISH
X-WR-CALNAME:Pacto Mundial México
X-ORIGINAL-URL:https://www.pactomundial.org.mx
X-WR-CALDESC:Eventos para Pacto Mundial México
BEGIN:VTIMEZONE
TZID:America/Mexico_City
BEGIN:DAYLIGHT
TZOFFSETFROM:-0600
TZOFFSETTO:-0500
TZNAME:CDT
DTSTART:20220403T080000
END:DAYLIGHT
BEGIN:STANDARD
TZOFFSETFROM:-0500
TZOFFSETTO:-0600
TZNAME:CST
DTSTART:20221030T070000
END:STANDARD
END:VTIMEZONE
BEGIN:VEVENT
DTSTART;TZID=America/Mexico_City:20221103T100000
DTEND;TZID=America/Mexico_City:20221103T110000
DTSTAMP:20230415T044516
CREATED:20221026T165004Z
LAST-MODIFIED:20221026T171108Z
UID:11198-1667469600-1667473200@www.pactomundial.org.mx
SUMMARY:Refill Revolution: Habilitando Modelos de Consumo Sustentables e Inclusivos en México
DESCRIPTION:Solo para empresas adheridas \n
URL:https://www.pactomundial.org.mx/evento/refill-revolution-habilitando-modelos-de-consumo-sustentables-e-inclusivos-en-mexico/
CATEGORIES:Vida Sostenible,WEBINAR
ATTACH;FMTTYPE=image/png:https://www.pactomundial.org.mx/wp-content/uploads/2022/10/Horizontal-Refill-Revolution.png
END:VEVENT
END:VCALENDAR