BEGIN:VCALENDAR
VERSION:2.0
PRODID:-//Pacto Mundial México - ECPv5.1.5//NONSGML v1.0//EN
CALSCALE:GREGORIAN
METHOD:PUBLISH
X-WR-CALNAME:Pacto Mundial México
X-ORIGINAL-URL:https://www.pactomundial.org.mx
X-WR-CALDESC:Eventos para Pacto Mundial México
BEGIN:VTIMEZONE
TZID:America/Mexico_City
BEGIN:DAYLIGHT
TZOFFSETFROM:-0600
TZOFFSETTO:-0500
TZNAME:CDT
DTSTART:20210404T080000
END:DAYLIGHT
BEGIN:STANDARD
TZOFFSETFROM:-0500
TZOFFSETTO:-0600
TZNAME:CST
DTSTART:20211031T070000
END:STANDARD
END:VTIMEZONE
BEGIN:VEVENT
DTSTART;TZID=America/Mexico_City:20210727T100000
DTEND;TZID=America/Mexico_City:20210727T113000
DTSTAMP:20230415T053526
CREATED:20210707T190225Z
LAST-MODIFIED:20210707T190410Z
UID:9248-1627380000-1627385400@www.pactomundial.org.mx
SUMMARY:Seminario 1: Debida Diligencia de Derechos humanos en la Cadena de Valor
DESCRIPTION:Sólo para Adheridos \n
URL:https://www.pactomundial.org.mx/evento/seminario-1-debida-diligencia-de-derechos-humanos-en-la-cadena-de-valor/
CATEGORIES:Derechos Humanos,Seminario
ATTACH;FMTTYPE=image/png:https://www.pactomundial.org.mx/wp-content/uploads/2021/07/Seminario-1_Newsletter-02-e1625684622823.png
END:VEVENT
END:VCALENDAR