BEGIN:VCALENDAR
VERSION:2.0
PRODID:-//Pacto Mundial México - ECPv5.1.5//NONSGML v1.0//EN
CALSCALE:GREGORIAN
METHOD:PUBLISH
X-WR-CALNAME:Pacto Mundial México
X-ORIGINAL-URL:https://www.pactomundial.org.mx
X-WR-CALDESC:Eventos para Pacto Mundial México
BEGIN:VTIMEZONE
TZID:America/Mexico_City
BEGIN:DAYLIGHT
TZOFFSETFROM:-0600
TZOFFSETTO:-0500
TZNAME:CDT
DTSTART:20200405T080000
END:DAYLIGHT
BEGIN:STANDARD
TZOFFSETFROM:-0500
TZOFFSETTO:-0600
TZNAME:CST
DTSTART:20201025T070000
END:STANDARD
END:VTIMEZONE
BEGIN:VEVENT
DTSTART;TZID=America/Mexico_City:20200402T100000
DTEND;TZID=America/Mexico_City:20200402T110000
DTSTAMP:20230415T044244
CREATED:20200421T204148Z
LAST-MODIFIED:20200421T211651Z
UID:6749-1585821600-1585825200@www.pactomundial.org.mx
SUMMARY:Sesión Informativa sobre la Situación del Coronavirus
DESCRIPTION:Recomendaciones para empresas. \n
URL:https://www.pactomundial.org.mx/evento/sesion-informativa-sobre-la-situacion-del-coronavirus/
LOCATION:México\, México\, Mexico
CATEGORIES:Estándares Laborales,WEBINAR
END:VEVENT
END:VCALENDAR