BEGIN:VCALENDAR
VERSION:2.0
PRODID:-//Pacto Mundial México - ECPv5.1.5//NONSGML v1.0//EN
CALSCALE:GREGORIAN
METHOD:PUBLISH
X-WR-CALNAME:Pacto Mundial México
X-ORIGINAL-URL:https://www.pactomundial.org.mx
X-WR-CALDESC:Eventos para Pacto Mundial México
BEGIN:VTIMEZONE
TZID:America/Mexico_City
BEGIN:DAYLIGHT
TZOFFSETFROM:-0600
TZOFFSETTO:-0500
TZNAME:CDT
DTSTART:20210404T080000
END:DAYLIGHT
BEGIN:STANDARD
TZOFFSETFROM:-0500
TZOFFSETTO:-0600
TZNAME:CST
DTSTART:20211031T070000
END:STANDARD
END:VTIMEZONE
BEGIN:VEVENT
DTSTART;TZID=America/Mexico_City:20210802T090000
DTEND;TZID=America/Mexico_City:20210802T130000
DTSTAMP:20230415T054152
CREATED:20210701T165957Z
LAST-MODIFIED:20210712T214305Z
UID:9193-1627894800-1627909200@www.pactomundial.org.mx
SUMMARY:Taller GRI
DESCRIPTION:2\, 3\, 9 y 10 de agosto \nAbierto al Público \n*Descuento para empresas adheridas \n
URL:https://www.pactomundial.org.mx/evento/taller-gri/
CATEGORIES:Taller Virtual
ATTACH;FMTTYPE=image/png:https://www.pactomundial.org.mx/wp-content/uploads/2021/07/KPMG-PMM-e1626126172566.png
END:VEVENT
END:VCALENDAR