BEGIN:VCALENDAR
VERSION:2.0
PRODID:-//Pacto Mundial México - ECPv5.1.5//NONSGML v1.0//EN
CALSCALE:GREGORIAN
METHOD:PUBLISH
X-WR-CALNAME:Pacto Mundial México
X-ORIGINAL-URL:https://www.pactomundial.org.mx
X-WR-CALDESC:Eventos para Pacto Mundial México
BEGIN:VTIMEZONE
TZID:America/Mexico_City
BEGIN:DAYLIGHT
TZOFFSETFROM:-0600
TZOFFSETTO:-0500
TZNAME:CDT
DTSTART:20220403T080000
END:DAYLIGHT
BEGIN:STANDARD
TZOFFSETFROM:-0500
TZOFFSETTO:-0600
TZNAME:CST
DTSTART:20221030T070000
END:STANDARD
END:VTIMEZONE
BEGIN:VEVENT
DTSTART;TZID=America/Mexico_City:20220517T080000
DTEND;TZID=America/Mexico_City:20220518T130000
DTSTAMP:20230415T053924
CREATED:20220225T183000Z
LAST-MODIFIED:20220225T210702Z
UID:10128-1652774400-1652878800@www.pactomundial.org.mx
SUMMARY:Taller Sustentabilidad en mi Cadena de Suministro: Integrando la Responsabilidad Social Corporativa en la Cadena de Valor
DESCRIPTION:Abierto al público \n
URL:https://www.pactomundial.org.mx/evento/taller-sostenibilidad-en-mi-cadena-de-suministro-integrando-la-responsabilidad-social-corporativa-en-la-cadena-de-valor/
CATEGORIES:Taller Virtual
ATTACH;FMTTYPE=image/jpeg:https://www.pactomundial.org.mx/wp-content/uploads/2022/02/TallerVirtual-Flyer-2-e1645823202370.jpg
END:VEVENT
END:VCALENDAR