BEGIN:VCALENDAR
VERSION:2.0
PRODID:-//Pacto Mundial México - ECPv5.1.5//NONSGML v1.0//EN
CALSCALE:GREGORIAN
METHOD:PUBLISH
X-WR-CALNAME:Pacto Mundial México
X-ORIGINAL-URL:https://www.pactomundial.org.mx
X-WR-CALDESC:Eventos para Pacto Mundial México
BEGIN:VTIMEZONE
TZID:America/Mexico_City
BEGIN:DAYLIGHT
TZOFFSETFROM:-0600
TZOFFSETTO:-0500
TZNAME:CDT
DTSTART:20210404T080000
END:DAYLIGHT
BEGIN:STANDARD
TZOFFSETFROM:-0500
TZOFFSETTO:-0600
TZNAME:CST
DTSTART:20211031T070000
END:STANDARD
END:VTIMEZONE
BEGIN:VEVENT
DTSTART;VALUE=DATE:20210316
DTEND;VALUE=DATE:20210317
DTSTAMP:20230415T044314
CREATED:20210222T053521Z
LAST-MODIFIED:20210222T065213Z
UID:8649-1615852800-1615939199@www.pactomundial.org.mx
SUMMARY:Target Gender Equality LIVE
DESCRIPTION:Gratis para colaboradores de empresas adheridas al Pacto Mundial de las Naciones Unidas. \n
URL:https://www.pactomundial.org.mx/evento/target-gender-equality-live/
CATEGORIES:Derechos Humanos,Estándares Laborales,Igualdad de Género
ATTACH;FMTTYPE=image/png:https://www.pactomundial.org.mx/wp-content/uploads/2021/02/2021-TGE-LIVE-cards-02-e1613976719857.png
END:VEVENT
END:VCALENDAR