BEGIN:VCALENDAR
VERSION:2.0
PRODID:-//Pacto Mundial México - ECPv5.1.5//NONSGML v1.0//EN
CALSCALE:GREGORIAN
METHOD:PUBLISH
X-WR-CALNAME:Pacto Mundial México
X-ORIGINAL-URL:https://www.pactomundial.org.mx
X-WR-CALDESC:Eventos para Pacto Mundial México
BEGIN:VTIMEZONE
TZID:America/Mexico_City
BEGIN:DAYLIGHT
TZOFFSETFROM:-0600
TZOFFSETTO:-0500
TZNAME:CDT
DTSTART:20210404T080000
END:DAYLIGHT
BEGIN:STANDARD
TZOFFSETFROM:-0500
TZOFFSETTO:-0600
TZNAME:CST
DTSTART:20211031T070000
END:STANDARD
END:VTIMEZONE
BEGIN:VEVENT
DTSTART;TZID=America/Mexico_City:20211213T100000
DTEND;TZID=America/Mexico_City:20211213T113000
DTSTAMP:20230415T055959
CREATED:20211205T020906Z
LAST-MODIFIED:20211205T020906Z
UID:9900-1639389600-1639395000@www.pactomundial.org.mx
SUMMARY:TEDxPactoMundialMéxico
DESCRIPTION:Abierto al Público \n
URL:https://www.pactomundial.org.mx/evento/tedxpactomundialmexico/
CATEGORIES:Acción por el clima,TEDx
ATTACH;FMTTYPE=image/png:https://www.pactomundial.org.mx/wp-content/uploads/2021/12/1638397774658-e1638670063955.png
END:VEVENT
END:VCALENDAR