BEGIN:VCALENDAR
VERSION:2.0
PRODID:-//Pacto Mundial México - ECPv5.1.5//NONSGML v1.0//EN
CALSCALE:GREGORIAN
METHOD:PUBLISH
X-WR-CALNAME:Pacto Mundial México
X-ORIGINAL-URL:https://www.pactomundial.org.mx
X-WR-CALDESC:Eventos para Pacto Mundial México
BEGIN:VTIMEZONE
TZID:America/Mexico_City
BEGIN:DAYLIGHT
TZOFFSETFROM:-0600
TZOFFSETTO:-0500
TZNAME:CDT
DTSTART:20200405T080000
END:DAYLIGHT
BEGIN:STANDARD
TZOFFSETFROM:-0500
TZOFFSETTO:-0600
TZNAME:CST
DTSTART:20201025T070000
END:STANDARD
END:VTIMEZONE
BEGIN:VEVENT
DTSTART;TZID=America/Mexico_City:20201215T100000
DTEND;TZID=America/Mexico_City:20201215T110000
DTSTAMP:20230415T043728
CREATED:20201207T230036Z
LAST-MODIFIED:20201207T230036Z
UID:8372-1608026400-1608030000@www.pactomundial.org.mx
SUMMARY:Webinar: Elaboración COP y COE
DESCRIPTION:Abierto al Público \n
URL:https://www.pactomundial.org.mx/evento/webinar-elaboracion-cop-y-coe/
LOCATION:En Línea
CATEGORIES:Estándares Laborales,WEBINAR
ATTACH;FMTTYPE=image/png:https://www.pactomundial.org.mx/wp-content/uploads/2020/12/Cop-yb-COE-PMM-15-dic.png
END:VEVENT
END:VCALENDAR