BEGIN:VCALENDAR
VERSION:2.0
PRODID:-//Pacto Mundial México - ECPv5.1.5//NONSGML v1.0//EN
CALSCALE:GREGORIAN
METHOD:PUBLISH
X-WR-CALNAME:Pacto Mundial México
X-ORIGINAL-URL:https://www.pactomundial.org.mx
X-WR-CALDESC:Eventos para Pacto Mundial México
BEGIN:VTIMEZONE
TZID:America/Mexico_City
BEGIN:DAYLIGHT
TZOFFSETFROM:-0600
TZOFFSETTO:-0500
TZNAME:CDT
DTSTART:20220403T080000
END:DAYLIGHT
BEGIN:STANDARD
TZOFFSETFROM:-0500
TZOFFSETTO:-0600
TZNAME:CST
DTSTART:20221030T070000
END:STANDARD
END:VTIMEZONE
BEGIN:VEVENT
DTSTART;TZID=America/Mexico_City:20220210T160000
DTEND;TZID=America/Mexico_City:20220210T170000
DTSTAMP:20230415T055636
CREATED:20220203T220544Z
LAST-MODIFIED:20220209T050018Z
UID:10089-1644508800-1644512400@www.pactomundial.org.mx
SUMMARY:Webinar | P4G Convocatoria de Alianzas 2022: Financiamiento para proyectos de sostenibilidad empresarial
DESCRIPTION:Solo para Adheridos \n
URL:https://www.pactomundial.org.mx/evento/webinar-p4g-convocatoria-de-alianzas-2022-financiamiento-para-proyectos-de-sostenibilidad-empresarial/
CATEGORIES:WEBINAR
ATTACH;FMTTYPE=image/jpeg:https://www.pactomundial.org.mx/wp-content/uploads/2022/02/PG4Redes.jpg
END:VEVENT
END:VCALENDAR